BEGIN:VCALENDAR
VERSION:2.0
PRODID:-//Galloway Community Transport - ECPv6.15.20//NONSGML v1.0//EN
CALSCALE:GREGORIAN
METHOD:PUBLISH
X-ORIGINAL-URL:https://gallowaycommunitytransport.org
X-WR-CALDESC:Events for Galloway Community Transport
REFRESH-INTERVAL;VALUE=DURATION:PT1H
X-Robots-Tag:noindex
X-PUBLISHED-TTL:PT1H
BEGIN:VTIMEZONE
TZID:UTC
BEGIN:STANDARD
TZOFFSETFROM:+0000
TZOFFSETTO:+0000
TZNAME:UTC
DTSTART:20230101T000000
END:STANDARD
END:VTIMEZONE
BEGIN:VEVENT
DTSTART;TZID=UTC:20241030T173000
DTEND;TZID=UTC:20241030T193000
DTSTAMP:20260421T114234
CREATED:20241024T185418Z
LAST-MODIFIED:20241024T190251Z
UID:567-1730309400-1730316600@gallowaycommunitytransport.org
SUMMARY:Tesco Castle Douglas
DESCRIPTION:
URL:https://gallowaycommunitytransport.org/event/tesco-castle-douglas/
CATEGORIES:Bus Service
END:VEVENT
END:VCALENDAR