BEGIN:VCALENDAR
VERSION:2.0
PRODID:-//Galloway Community Transport - ECPv6.15.20//NONSGML v1.0//EN
CALSCALE:GREGORIAN
METHOD:PUBLISH
X-WR-CALNAME:Galloway Community Transport
X-ORIGINAL-URL:https://gallowaycommunitytransport.org
X-WR-CALDESC:Events for Galloway Community Transport
REFRESH-INTERVAL;VALUE=DURATION:PT1H
X-Robots-Tag:noindex
X-PUBLISHED-TTL:PT1H
BEGIN:VTIMEZONE
TZID:Europe/London
BEGIN:DAYLIGHT
TZOFFSETFROM:+0000
TZOFFSETTO:+0100
TZNAME:BST
DTSTART:20240331T010000
END:DAYLIGHT
BEGIN:STANDARD
TZOFFSETFROM:+0100
TZOFFSETTO:+0000
TZNAME:GMT
DTSTART:20241027T010000
END:STANDARD
BEGIN:DAYLIGHT
TZOFFSETFROM:+0000
TZOFFSETTO:+0100
TZNAME:BST
DTSTART:20250330T010000
END:DAYLIGHT
BEGIN:STANDARD
TZOFFSETFROM:+0100
TZOFFSETTO:+0000
TZNAME:GMT
DTSTART:20251026T010000
END:STANDARD
BEGIN:DAYLIGHT
TZOFFSETFROM:+0000
TZOFFSETTO:+0100
TZNAME:BST
DTSTART:20260329T010000
END:DAYLIGHT
BEGIN:STANDARD
TZOFFSETFROM:+0100
TZOFFSETTO:+0000
TZNAME:GMT
DTSTART:20261025T010000
END:STANDARD
END:VTIMEZONE
BEGIN:VTIMEZONE
TZID:UTC
BEGIN:STANDARD
TZOFFSETFROM:+0000
TZOFFSETTO:+0000
TZNAME:UTC
DTSTART:20230101T000000
END:STANDARD
END:VTIMEZONE
BEGIN:VEVENT
DTSTART;TZID=Europe/London:20250105T080000
DTEND;TZID=Europe/London:20250105T080000
DTSTAMP:20260421T112002
CREATED:20241024T155405Z
LAST-MODIFIED:20241212T195325Z
UID:535-1736064000-1736064000@gallowaycommunitytransport.org
SUMMARY:Excursion Two
DESCRIPTION:
URL:https://gallowaycommunitytransport.org/event/excursion-one/
LOCATION:Holehird Garden\, Patterdale Rd\, Windermere LA23 1NP\, Windermere\, Cumbria\, LA23 1NP\, United Kingdom
CATEGORIES:Excursion
ORGANIZER;CN="Galloway Community Transport":MAILTO:jon@catstrand.com
END:VEVENT
BEGIN:VEVENT
DTSTART;TZID=UTC:20241031T080000
DTEND;TZID=UTC:20241031T170000
DTSTAMP:20260421T112002
CREATED:20241024T172459Z
LAST-MODIFIED:20241024T185304Z
UID:557-1730361600-1730394000@gallowaycommunitytransport.org
SUMMARY:Excursion One
DESCRIPTION:
URL:https://gallowaycommunitytransport.org/event/excursion-one-2/
CATEGORIES:Excursion
ATTACH;FMTTYPE=image/jpeg:https://gallowaycommunitytransport.org/wp-content/uploads/2024/10/Excursion1-1.jpg
END:VEVENT
BEGIN:VEVENT
DTSTART;TZID=UTC:20241030T173000
DTEND;TZID=UTC:20241030T193000
DTSTAMP:20260421T112002
CREATED:20241024T185418Z
LAST-MODIFIED:20241024T190251Z
UID:567-1730309400-1730316600@gallowaycommunitytransport.org
SUMMARY:Tesco Castle Douglas
DESCRIPTION:
URL:https://gallowaycommunitytransport.org/event/tesco-castle-douglas/
CATEGORIES:Bus Service
END:VEVENT
END:VCALENDAR